BEGIN:VCALENDAR
VERSION:2.0
PRODID:-//CSOCSO.HU - ECPv6.15.20//NONSGML v1.0//EN
CALSCALE:GREGORIAN
METHOD:PUBLISH
X-WR-CALNAME:CSOCSO.HU
X-ORIGINAL-URL:https://csocso.hu/en
X-WR-CALDESC:Events for CSOCSO.HU
REFRESH-INTERVAL;VALUE=DURATION:PT1H
X-Robots-Tag:noindex
X-PUBLISHED-TTL:PT1H
BEGIN:VTIMEZONE
TZID:Europe/Helsinki
BEGIN:DAYLIGHT
TZOFFSETFROM:+0200
TZOFFSETTO:+0300
TZNAME:EEST
DTSTART:20240331T010000
END:DAYLIGHT
BEGIN:STANDARD
TZOFFSETFROM:+0300
TZOFFSETTO:+0200
TZNAME:EET
DTSTART:20241027T010000
END:STANDARD
BEGIN:DAYLIGHT
TZOFFSETFROM:+0200
TZOFFSETTO:+0300
TZNAME:EEST
DTSTART:20250330T010000
END:DAYLIGHT
BEGIN:STANDARD
TZOFFSETFROM:+0300
TZOFFSETTO:+0200
TZNAME:EET
DTSTART:20251026T010000
END:STANDARD
BEGIN:DAYLIGHT
TZOFFSETFROM:+0200
TZOFFSETTO:+0300
TZNAME:EEST
DTSTART:20260329T010000
END:DAYLIGHT
BEGIN:STANDARD
TZOFFSETFROM:+0300
TZOFFSETTO:+0200
TZNAME:EET
DTSTART:20261025T010000
END:STANDARD
END:VTIMEZONE
BEGIN:VEVENT
DTSTART;TZID=Europe/Helsinki:20250221T110000
DTEND;TZID=Europe/Helsinki:20250223T200000
DTSTAMP:20260423T005247
CREATED:20241212T052529Z
LAST-MODIFIED:20241215T160313Z
UID:4611-1740135600-1740340800@csocso.hu
SUMMARY:Hungarian Leonhart Open 2025
DESCRIPTION:Hungarian-Leonhart-Open-2025-infopack\nhttps://www.facebook.com/events/1536618793702194 \nVersenykiírás letöltése / Infopackage download \n Előregisztráció hamarosan… / Pre-registration soon…
URL:https://csocso.hu/en/versenynaptar/hungarian-leonhart-open-2025/
LOCATION:Récsei Center\, Istvánmezei út 6.\, Budapest\, 1146
CATEGORIES:MACSOSZ
ATTACH;FMTTYPE=image/jpeg:https://csocso.hu/wp-content/uploads/2024/12/ITSF-2025-fb-cover.jpg
ORGANIZER;CN="Magyar Csocs%C3%B3 Sz%C3%B6vets%C3%A9g":MAILTO:info@csocso.hu
END:VEVENT
END:VCALENDAR