BEGIN:VCALENDAR
VERSION:2.0
PRODID:-//CSOCSO.HU - ECPv6.15.20//NONSGML v1.0//EN
CALSCALE:GREGORIAN
METHOD:PUBLISH
X-WR-CALNAME:CSOCSO.HU
X-ORIGINAL-URL:https://csocso.hu/en
X-WR-CALDESC:Events for CSOCSO.HU
REFRESH-INTERVAL;VALUE=DURATION:PT1H
X-Robots-Tag:noindex
X-PUBLISHED-TTL:PT1H
BEGIN:VTIMEZONE
TZID:Europe/Helsinki
BEGIN:DAYLIGHT
TZOFFSETFROM:+0200
TZOFFSETTO:+0300
TZNAME:EEST
DTSTART:20240331T010000
END:DAYLIGHT
BEGIN:STANDARD
TZOFFSETFROM:+0300
TZOFFSETTO:+0200
TZNAME:EET
DTSTART:20241027T010000
END:STANDARD
BEGIN:DAYLIGHT
TZOFFSETFROM:+0200
TZOFFSETTO:+0300
TZNAME:EEST
DTSTART:20250330T010000
END:DAYLIGHT
BEGIN:STANDARD
TZOFFSETFROM:+0300
TZOFFSETTO:+0200
TZNAME:EET
DTSTART:20251026T010000
END:STANDARD
BEGIN:DAYLIGHT
TZOFFSETFROM:+0200
TZOFFSETTO:+0300
TZNAME:EEST
DTSTART:20260329T010000
END:DAYLIGHT
BEGIN:STANDARD
TZOFFSETFROM:+0300
TZOFFSETTO:+0200
TZNAME:EET
DTSTART:20261025T010000
END:STANDARD
END:VTIMEZONE
BEGIN:VEVENT
DTSTART;VALUE=DATE:20250621
DTEND;VALUE=DATE:20250622
DTSTAMP:20260423T012949
CREATED:20241212T053900Z
LAST-MODIFIED:20250326T085158Z
UID:4620-1750464000-1750550399@csocso.hu
SUMMARY:I. MATE-GEAC Pest megyei csocsóbajnokság 4. forduló
DESCRIPTION:Versenykiírás letöltése\n\nA Magyar Csocsó Szövetség és a MATE-GEAC összefogásával megrendezésre kerül az I. MATE-GEAC PEST MEGYEI CSOCSÓ BAJNOKSÁG!\n\nKategóriák:Minden fordulón Semi-pro páros\, Utánpótlás páros\, Nyílt páros és Nyílt egyéni kerül megrendezésre\nAsztalok:Minimum 8 db Leonhart versenyasztal\, de ez növekedhet\, a nevező számok alapján\nLebonyolítás:Semi-pro páros: DKO két nyert szettUtánpótlás páros: DKO két nyert szettNyílt páros: DKO két nyert szettNyílt egyéni: SKO három nyert szett\nTeremnyitás: 09:30Nevezési határidő:Semi-pro páros 09:45Utánpótlás páros 11:00Nyílt páros 12:00Nyílt egyéni 13:30\nHelyszín:MATE Kollégium B épület2100 Gödöllő Szent-Györgyi Albert utca 2.\nNevezési díjak: master pro semi-pro rookieSemi Pro Páros 2500 2000Utánpótlás páros: 1000Nyílt Páros 3500 3000 2500 1500Nyílt Egyéni 3500 3000 2500 1500\nRegisztrációs díj:Érvényes előregisztrációval: 3000Helyszíni regisztrációval: 4000\nÉves versenyengedély: 4000 (aki idén még nem fizette be)\nDíjazás:Minden kategóriában fordulónként a nevezési díjak 70%-át osztjuk szét az első 3 helyezett között.\nÖsszetett díjazás:Nyílt páros és semi-pro páros:I. hely: 50.000 Ft + kupaII. hely: 30.000 FtIII. hely: 20.000 FtNyílt egyéniI. hely: 25.000 Ft + kupaII. hely: 15.000 FtIII. hely: 10.000 FtUtánpótlás párosI. hely: 100.000 HUF + kupákértékű nevezési csomag a 2025 évadraII. hely: 70.000 HUFértékű nevezési csomag a 2025 évadraIII. hely: 50.000 HUFértékű nevezési csomag a 2025 évadra\nA fordulókon szerezhető pontok:1. 1002. 903. 804. 705. 607. 509. 4013. 3017. 2025. 1533. 1049. 5\nEgyéb információk:– Nyílt Páros kategóriában mindenki elindulhat. Semi Pro Páros kategóriában az országos páros ranglistán nem szereplők\, valamint a Rookie és a Semi Pro besorolású játékosok indulhatnak-Utánpótlás páros: Csak Junior és/vagy New/Rookie játékosok indulhatnak. Mindemellett\, a szervezők fenntartják a face control-t\, vagyis a szubjektív elbíráláson alapuló döntés jogát!Junior: 2005-ben és azután született játékosok.Minimum 5 csapat esetén indul el a kategória. Az Utánpótlás kategória játékosai mentesülnek a regisztrációs díj és versenyengedély megfizetése alól.– A versenysorozat teljes ideje alatt az 1. fordulón érvényes ranglistát használjuk– Mindenki a saját párjával nevez. Csak az azonos párral elért eredmények számítanak bele az összesített eredménybe.– A versenyen az ITSF szabályai érvényesek– Az összes kategória 4 fordulós\, amiből a 3 legjobb eredmény számít bele az összesítettbe.– A bajnokság végén az összesített eredmény 3. kategóriás versenyként beszámít a Magyar Országos Csocsó Ranglistába.– Ha a bajnokság végén pontegyenlőség alakul ki\, a több fordulógyőzelem\, ha ez is megegyezik\, a több második hely\, stb. fog dönteni. Ha így sem lehet dönteni\, az érintett csapatok 3 nyert szettig tartó mérkőzésen döntik el a helyezés sorsát.– A helyszínen okozott bármilyen kárt a károkozó köteles megtéríteni.
URL:https://csocso.hu/en/versenynaptar/i-mate-geac-pest-megyei-csocsobajnoksag-4-fordulo/
LOCATION:MATE Kollégium B épület\, Szent-Györgyi Albert utca 2.\, Gödöllő\, 2100\, Hungary
CATEGORIES:Budapest Bajnokság
ATTACH;FMTTYPE=image/jpeg:https://csocso.hu/wp-content/uploads/2025/03/I.-MATE-GEAC-PMB_4.jpg
END:VEVENT
BEGIN:VEVENT
DTSTART;VALUE=DATE:20250622
DTEND;VALUE=DATE:20250623
DTSTAMP:20260423T012949
CREATED:20250228T053259Z
LAST-MODIFIED:20250314T084840Z
UID:4729-1750550400-1750636799@csocso.hu
SUMMARY:Magyar Csocsó Egyesületek Harca Csapatverseny - Döntő
DESCRIPTION:Első alkalommal hirdetjük meg a Csocsó Egyesületek Harca csapatversenyt.\nA versenyen 7+3 fős csapatok nevezését várjuk\, melynek játékosai ugyanazon egyesület tagjai\, egyenmez viselése kötelező. A csapatokat az egyesületek nevezik be emailben az info@csocso.hu címre küldve\, a névsor később nem változtatható (a döntő előtt sem). Amennyiben valamelyik játékos nem tud részt venni az egyik fordulón\, a cserék között szerepelhet a neve.\nA kategóriák: páros\, egyéni\, vegyes\, páros.Lebonyolítás: minden kör 40 gólig megy (4×10 gól).\nNevezési díj 2000 Ft/fő.
URL:https://csocso.hu/en/versenynaptar/csocso-egyesuletek-harca-kvalifikacio/
LOCATION:MATE Kollégium B épület\, Szent-Györgyi Albert utca 2.\, Gödöllő\, 2100\, Hungary
CATEGORIES:MACSOSZ
ATTACH;FMTTYPE=image/jpeg:https://csocso.hu/wp-content/uploads/2025/02/2-98d1d1ef.jpg
ORGANIZER;CN="Magyar Csocs%C3%B3 Sz%C3%B6vets%C3%A9g":MAILTO:info@csocso.hu
END:VEVENT
END:VCALENDAR