BEGIN:VCALENDAR
VERSION:2.0
PRODID:-//CSOCSO.HU - ECPv6.15.20//NONSGML v1.0//EN
CALSCALE:GREGORIAN
METHOD:PUBLISH
X-WR-CALNAME:CSOCSO.HU
X-ORIGINAL-URL:https://csocso.hu/en
X-WR-CALDESC:Events for CSOCSO.HU
REFRESH-INTERVAL;VALUE=DURATION:PT1H
X-Robots-Tag:noindex
X-PUBLISHED-TTL:PT1H
BEGIN:VTIMEZONE
TZID:Europe/Helsinki
BEGIN:DAYLIGHT
TZOFFSETFROM:+0200
TZOFFSETTO:+0300
TZNAME:EEST
DTSTART:20250330T010000
END:DAYLIGHT
BEGIN:STANDARD
TZOFFSETFROM:+0300
TZOFFSETTO:+0200
TZNAME:EET
DTSTART:20251026T010000
END:STANDARD
BEGIN:DAYLIGHT
TZOFFSETFROM:+0200
TZOFFSETTO:+0300
TZNAME:EEST
DTSTART:20260329T010000
END:DAYLIGHT
BEGIN:STANDARD
TZOFFSETFROM:+0300
TZOFFSETTO:+0200
TZNAME:EET
DTSTART:20261025T010000
END:STANDARD
BEGIN:DAYLIGHT
TZOFFSETFROM:+0200
TZOFFSETTO:+0300
TZNAME:EEST
DTSTART:20270328T010000
END:DAYLIGHT
BEGIN:STANDARD
TZOFFSETFROM:+0300
TZOFFSETTO:+0200
TZNAME:EET
DTSTART:20271031T010000
END:STANDARD
END:VTIMEZONE
BEGIN:VEVENT
DTSTART;TZID=Europe/Helsinki:20260404T090000
DTEND;TZID=Europe/Helsinki:20260404T230000
DTSTAMP:20260423T011405
CREATED:20260410T050247Z
LAST-MODIFIED:20260410T050247Z
UID:4953-1775293200-1775343600@csocso.hu
SUMMARY:Budapest Csocsóbajnokság 2026 - 2. forduló
DESCRIPTION:
URL:https://csocso.hu/en/versenynaptar/budapest-csocsobajnoksag-2026-2-fordulo/
LOCATION:Récsei Center\, Istvánmezei út 6.\, Budapest\, 1146
CATEGORIES:Budapest Bajnokság
ORGANIZER;CN="Magyar Csocs%C3%B3 Sz%C3%B6vets%C3%A9g":MAILTO:info@csocso.hu
END:VEVENT
END:VCALENDAR