BEGIN:VCALENDAR
VERSION:2.0
PRODID:-//CSOCSO.HU - ECPv6.15.20//NONSGML v1.0//EN
CALSCALE:GREGORIAN
METHOD:PUBLISH
X-WR-CALNAME:CSOCSO.HU
X-ORIGINAL-URL:https://csocso.hu/en
X-WR-CALDESC:Events for CSOCSO.HU
REFRESH-INTERVAL;VALUE=DURATION:PT1H
X-Robots-Tag:noindex
X-PUBLISHED-TTL:PT1H
BEGIN:VTIMEZONE
TZID:Europe/Helsinki
BEGIN:DAYLIGHT
TZOFFSETFROM:+0200
TZOFFSETTO:+0300
TZNAME:EEST
DTSTART:20230326T010000
END:DAYLIGHT
BEGIN:STANDARD
TZOFFSETFROM:+0300
TZOFFSETTO:+0200
TZNAME:EET
DTSTART:20231029T010000
END:STANDARD
BEGIN:DAYLIGHT
TZOFFSETFROM:+0200
TZOFFSETTO:+0300
TZNAME:EEST
DTSTART:20240331T010000
END:DAYLIGHT
BEGIN:STANDARD
TZOFFSETFROM:+0300
TZOFFSETTO:+0200
TZNAME:EET
DTSTART:20241027T010000
END:STANDARD
BEGIN:DAYLIGHT
TZOFFSETFROM:+0200
TZOFFSETTO:+0300
TZNAME:EEST
DTSTART:20250330T010000
END:DAYLIGHT
BEGIN:STANDARD
TZOFFSETFROM:+0300
TZOFFSETTO:+0200
TZNAME:EET
DTSTART:20251026T010000
END:STANDARD
END:VTIMEZONE
BEGIN:VEVENT
DTSTART;TZID=Europe/Helsinki:20241122T110000
DTEND;TZID=Europe/Helsinki:20241124T200000
DTSTAMP:20260423T063834
CREATED:20240204T124230Z
LAST-MODIFIED:20250317T173422Z
UID:4206-1732273200-1732478400@csocso.hu
SUMMARY:Magyar Csocsó Bajnokság 2024 - 2. forduló
DESCRIPTION:https://www.facebook.com/events/1193395568624545 \nVersenykiírás letöltése \n Előregiszráció
URL:https://csocso.hu/en/versenynaptar/magyar-csocso-bajnoksag-2024-2-fordulo/
CATEGORIES:MACSOSZ
ATTACH;FMTTYPE=image/jpeg:https://csocso.hu/wp-content/uploads/2024/10/MB-2-fb-cover2024.jpg
ORGANIZER;CN="Magyar Csocs%C3%B3 Sz%C3%B6vets%C3%A9g":MAILTO:info@csocso.hu
END:VEVENT
END:VCALENDAR