BEGIN:VCALENDAR
VERSION:2.0
PRODID:-//CSOCSO.HU - ECPv6.15.20//NONSGML v1.0//EN
CALSCALE:GREGORIAN
METHOD:PUBLISH
X-WR-CALNAME:CSOCSO.HU
X-ORIGINAL-URL:https://csocso.hu/en
X-WR-CALDESC:Events for CSOCSO.HU
REFRESH-INTERVAL;VALUE=DURATION:PT1H
X-Robots-Tag:noindex
X-PUBLISHED-TTL:PT1H
BEGIN:VTIMEZONE
TZID:Europe/Helsinki
BEGIN:DAYLIGHT
TZOFFSETFROM:+0200
TZOFFSETTO:+0300
TZNAME:EEST
DTSTART:20230326T010000
END:DAYLIGHT
BEGIN:STANDARD
TZOFFSETFROM:+0300
TZOFFSETTO:+0200
TZNAME:EET
DTSTART:20231029T010000
END:STANDARD
BEGIN:DAYLIGHT
TZOFFSETFROM:+0200
TZOFFSETTO:+0300
TZNAME:EEST
DTSTART:20240331T010000
END:DAYLIGHT
BEGIN:STANDARD
TZOFFSETFROM:+0300
TZOFFSETTO:+0200
TZNAME:EET
DTSTART:20241027T010000
END:STANDARD
BEGIN:DAYLIGHT
TZOFFSETFROM:+0200
TZOFFSETTO:+0300
TZNAME:EEST
DTSTART:20250330T010000
END:DAYLIGHT
BEGIN:STANDARD
TZOFFSETFROM:+0300
TZOFFSETTO:+0200
TZNAME:EET
DTSTART:20251026T010000
END:STANDARD
END:VTIMEZONE
BEGIN:VEVENT
DTSTART;VALUE=DATE:20241207
DTEND;VALUE=DATE:20241208
DTSTAMP:20260422T184810
CREATED:20240204T180754Z
LAST-MODIFIED:20240204T180754Z
UID:4243-1733529600-1733615999@csocso.hu
SUMMARY:X. Viharsarki Csocsó Liga – 4. forduló
DESCRIPTION:Idén jubilál a 10. szezonjával a Viharsarki Csocsó Liga!\nAz idei évad 5 fordulóból fog állni!\nA versenyeket Békéscsabán bonyolítjuk le.\n(minden alkalommal 4 db Leonhart típusú asztal áll majd a rendelkezésünkre)\n2020-tól az összetett végeredménye az Országos Ranglistába is beleszámít majd – régiós besorolással!\nAz 5 fordulóból ismételten csak a 4 legjobb eredményt fogjuk végül beszámolni.\nA kategóriák a következőek lesznek:\n– Nyílt Páros\n– Nyílt Egyéni\n– Sorsolásos Páros/Pro-am páros\, Snake-és pinmentes páros és amatőr páros\nA 2 Nyílt kategóriában külön összesítve kapunk majd győzteseket. Minden fordulóban a nevezési díjak egy részét eltesszük a közös kasszába és az 5. forduló végén a kategóriák helyezettjei fogják megkapni azt szétosztva.\nMinden fordulóban a nevezési díjak 75%-át visszaosztjuk a dobogósok között 50-30-20%\narányban!\nKapunyitás – 8:30\nSorsolásos Páros (német) – 9:45 (alapszakasz 12:00-ig)\nNyílt Páros – 12:30\nNyílt Egyéni – 16:00\nA nevezést negyed órával hamarabb lezárjuk!! Ezért mindenkit kérek\, hogy időben érkezzen!!!\nNevezési díjak:\nJunior(u19): 500 HUF\nRookie: 1000 HUF\nSemi pro: 1500 HUF\nPro: 2000 HUF\nMaster: 2500 HUF\n(Asztalhasználati díj: 1000 ft/fő – azoknak akik nem rendelkeznek érvényes havi „csocsós bérlettel”)\nFordulónkénti díjazás:\nNyílt Páros: (a nevezési díj 70%-a kerül visszaosztásra)\n1. hely: Nevezési díjak 50%\n2. hely: Nevezési díjak 30%\n3. hely: Nevezési díjak 20%\nNyílt Egyéni: (a nevezési díj 70%-a kerül visszaosztásra)\n1. hely: Nevezési díjak 50%\n2. hely: Nevezési díjak 30%\n3. hely: Nevezési díjak 20%\nSorsolásos Páros (a nevezési díj 85%-a kerül visszaosztásra)\n1. hely: Nevezési díjak 50%\n2. hely: Nevezési díjak 30%\n3. hely: Nevezési díjak 20%\nÖsszesített díjazás:\nNyílt Páros: (egyéni díjazás) – (az összegyűlt összeget osztjuk szét)\n1. hely: nevezési díjak 40% (Serleg+póló\, holtverseny esetén ezekből duplán készíttetünk)\n2. hely: nevezési díjak 25%\n3. hely: nevezési díjak 15%\n4. hely: nevezési díjak 12%\n5. hely: nevezési díjak 8%\nNyílt Egyéni: (egyéni díjazás) – (az összegyűlt összeget osztjuk szét)\n1. hely: nevezési díjak 40% (Serleg+póló)\n2. hely: nevezési díjak 25%\n3. hely: nevezési díjak 15%\n4. hely: nevezési díjak 12%\n5. hely: nevezési díjak 8%\nPontrendszer (mind a két kategóriában):\n1. hely: 25 pont\n2. hely: 20 pont\n3. hely: 18 pont\n4. hely: 15 pont\n5. hely: 13 pont\n7. hely: 10 pont\n9. hely: 8 pont\n13. hely: 5 pont\n17. hely: 3 pont\n25. hely: 2 pont\n33. hely: 1 pont\nPont egyenlőség esetén először a több forduló győzelem rangsorol\, majd a több 2. helyezés és így tovább.\nA nyílt kategóriák DKO-s rendszerben fog lezajlani\, főágon 3 nyert szettig\, vigaszon a legjobb 5-ig kettő nyert szettig fog tartani egy mérkőzés\, ahol az első 5 gól nyer\, döntő szettben 2-vel kell nyerni\, maximum 8 gólig!\nA DKO-kat az aktuálisan érvényes országos ranglista alapján írjuk fel.\nA verseny minden fordulójában a jelenlegi ITSF szabályzat lesz érvényben!\nAzok a versenyzők\, akik valamely Viharsarki Csocsó Egyesület által rendezett versenyen előregisztrálnak\, de azt nem mondják le a verseny kezdése előtt 15 perccel\, a következő alkalommal\, amikor megjelennek „késedelmi regisztrációs díjat kell fizessen”\, amely 1.000 ft. Ezzel segítve a szervezők munkáját.\n1. forduló: 2024. február 24.\n2. forduló: 2024. április 13. vagy április 20. (szervezés alatt)\n3. forduló: 2024. szeptember 7.\n4. forduló: 2024. október 26.\n5. forduló: 2024. december 7.\nMindenkit sok szeretettel várunk
URL:https://csocso.hu/en/versenynaptar/x-viharsarki-csocso-liga-4-fordulo-2/
LOCATION:Csabagyöngye Kultúrális Központ\, Széchenyi u. 4.\, Békéscsaba\, 5600\, Magyarország
CATEGORIES:Viharsarki
ATTACH;FMTTYPE=image/jpeg:https://csocso.hu/wp-content/uploads/2022/02/Viharsarki-liga-e1677039706242.jpg
END:VEVENT
END:VCALENDAR