BEGIN:VCALENDAR
VERSION:2.0
PRODID:-//CSOCSO.HU - ECPv6.15.20//NONSGML v1.0//EN
CALSCALE:GREGORIAN
METHOD:PUBLISH
X-WR-CALNAME:CSOCSO.HU
X-ORIGINAL-URL:https://csocso.hu/en
X-WR-CALDESC:Events for CSOCSO.HU
REFRESH-INTERVAL;VALUE=DURATION:PT1H
X-Robots-Tag:noindex
X-PUBLISHED-TTL:PT1H
BEGIN:VTIMEZONE
TZID:Europe/Helsinki
BEGIN:DAYLIGHT
TZOFFSETFROM:+0200
TZOFFSETTO:+0300
TZNAME:EEST
DTSTART:20230326T010000
END:DAYLIGHT
BEGIN:STANDARD
TZOFFSETFROM:+0300
TZOFFSETTO:+0200
TZNAME:EET
DTSTART:20231029T010000
END:STANDARD
BEGIN:DAYLIGHT
TZOFFSETFROM:+0200
TZOFFSETTO:+0300
TZNAME:EEST
DTSTART:20240331T010000
END:DAYLIGHT
BEGIN:STANDARD
TZOFFSETFROM:+0300
TZOFFSETTO:+0200
TZNAME:EET
DTSTART:20241027T010000
END:STANDARD
BEGIN:DAYLIGHT
TZOFFSETFROM:+0200
TZOFFSETTO:+0300
TZNAME:EEST
DTSTART:20250330T010000
END:DAYLIGHT
BEGIN:STANDARD
TZOFFSETFROM:+0300
TZOFFSETTO:+0200
TZNAME:EET
DTSTART:20251026T010000
END:STANDARD
END:VTIMEZONE
BEGIN:VEVENT
DTSTART;TZID=Europe/Helsinki:20241213T150000
DTEND;TZID=Europe/Helsinki:20241213T190000
DTSTAMP:20260422T184940
CREATED:20241105T053508Z
LAST-MODIFIED:20241105T053508Z
UID:4593-1734102000-1734116400@csocso.hu
SUMMARY:I. Gödöllő Városi Csocsókupa
DESCRIPTION:A MATE-GEAC és a Premontrei Iskolaközpont összefogásával megrendezésre kerül az első Gödöllő\nvárosi iskolás csocsóverseny! Szeretettel várunk minden gödöllői általános és középiskolás diákot a\nPremontrei Iskolaközpont B épületébe az alábbi korhatár szerint. A versenyen páros kategória lesz\,\nvagyis két ember szükséges egy csapathoz. A verseny előregisztrációhoz kötött\, lásd alábbi link. \n Helyszín: 2100 Gödöllő\, Takács Menyhért út 2. B épület\n Időpont: 2024.12.13 15:00\n Korhatár: 5-12 osztály\n Nevezési feltétel: egy csapatnak két főből kell állnia\n Előregisztráció: https://forms.gle/ifPY4RfHb2LgvTdi8 \n  \nSzervező: Rozsos Gábor\n0620 487 7469
URL:https://csocso.hu/en/versenynaptar/i-godollo-varosi-csocsokupa/
LOCATION:Premontrei Iskolaközpont\, Takács Menyhért út 2.\, Gödöllő\, Pest\, 2100\, Hungary
ATTACH;FMTTYPE=image/jpeg:https://csocso.hu/wp-content/uploads/2024/11/I.-Godollo-varosi-iskolas-csocso-kupa.jpg
END:VEVENT
END:VCALENDAR