BEGIN:VCALENDAR
VERSION:2.0
PRODID:-//CSOCSO.HU - ECPv6.15.20//NONSGML v1.0//EN
CALSCALE:GREGORIAN
METHOD:PUBLISH
X-ORIGINAL-URL:https://csocso.hu/en
X-WR-CALDESC:Events for CSOCSO.HU
REFRESH-INTERVAL;VALUE=DURATION:PT1H
X-Robots-Tag:noindex
X-PUBLISHED-TTL:PT1H
BEGIN:VTIMEZONE
TZID:Europe/Helsinki
BEGIN:DAYLIGHT
TZOFFSETFROM:+0200
TZOFFSETTO:+0300
TZNAME:EEST
DTSTART:20240331T010000
END:DAYLIGHT
BEGIN:STANDARD
TZOFFSETFROM:+0300
TZOFFSETTO:+0200
TZNAME:EET
DTSTART:20241027T010000
END:STANDARD
BEGIN:DAYLIGHT
TZOFFSETFROM:+0200
TZOFFSETTO:+0300
TZNAME:EEST
DTSTART:20250330T010000
END:DAYLIGHT
BEGIN:STANDARD
TZOFFSETFROM:+0300
TZOFFSETTO:+0200
TZNAME:EET
DTSTART:20251026T010000
END:STANDARD
BEGIN:DAYLIGHT
TZOFFSETFROM:+0200
TZOFFSETTO:+0300
TZNAME:EEST
DTSTART:20260329T010000
END:DAYLIGHT
BEGIN:STANDARD
TZOFFSETFROM:+0300
TZOFFSETTO:+0200
TZNAME:EET
DTSTART:20261025T010000
END:STANDARD
END:VTIMEZONE
BEGIN:VEVENT
DTSTART;VALUE=DATE:20250323
DTEND;VALUE=DATE:20250324
DTSTAMP:20260422T130532
CREATED:20241212T053421Z
LAST-MODIFIED:20250228T053456Z
UID:4616-1742688000-1742774399@csocso.hu
SUMMARY:Magyar Csocsó Egyesületek Harca Csapatverseny - Kvalifikáció
DESCRIPTION:Első alkalommal hirdetjük meg a Csocsó Egyesületek Harca csapatversenyt.\nEzen a napon a kvalifikációt rendezzük meg\, a döntő június 8-án lesz.\nA versenyen 7+3 fős csapatok nevezését várjuk\, melynek játékosai ugyanazon egyesület tagjai\, egyenmez viselése kötelező. A csapatokat az egyesületek nevezik be emailben az info@csocso.hu címre küldve\, a névsor később nem változtatható (a döntő előtt sem). Amennyiben valamelyik játékos nem tud részt venni az egyik fordulón\, a cserék között szerepelhet a neve.\nA kategóriák: páros\, egyéni\, vegyes\, páros.Lebonyolítás: minden kör 40 gólig megy (4×10 gól).A kvalifikációban maximum 5 meccset játszik mindenki\, tehát 6 nevezőig mindenki játszik mindenkivel\, azon felül „swiss system”-et alkalmazunk\, tehát az ellenfeleket az előző körös eredmények alapján kapják a csapatok.\nNevezési díj 2000 Ft/fő.
URL:https://csocso.hu/en/versenynaptar/magyar-csocso-egyesuletek-harca-csapatverseny/
LOCATION:MATE Kollégium B épület\, Szent-Györgyi Albert utca 2.\, Gödöllő\, 2100\, Hungary
CATEGORIES:MACSOSZ
ATTACH;FMTTYPE=image/jpeg:https://csocso.hu/wp-content/uploads/2025/02/2-98d1d1ef.jpg
ORGANIZER;CN="Magyar Csocs%C3%B3 Sz%C3%B6vets%C3%A9g":MAILTO:info@csocso.hu
END:VEVENT
END:VCALENDAR