BEGIN:VCALENDAR
VERSION:2.0
PRODID:-//CSOCSO.HU - ECPv6.15.20//NONSGML v1.0//EN
CALSCALE:GREGORIAN
METHOD:PUBLISH
X-WR-CALNAME:CSOCSO.HU
X-ORIGINAL-URL:https://csocso.hu
X-WR-CALDESC:Események CSOCSO.HU
REFRESH-INTERVAL;VALUE=DURATION:PT1H
X-Robots-Tag:noindex
X-PUBLISHED-TTL:PT1H
BEGIN:VTIMEZONE
TZID:Europe/Helsinki
BEGIN:DAYLIGHT
TZOFFSETFROM:+0200
TZOFFSETTO:+0300
TZNAME:EEST
DTSTART:20240331T010000
END:DAYLIGHT
BEGIN:STANDARD
TZOFFSETFROM:+0300
TZOFFSETTO:+0200
TZNAME:EET
DTSTART:20241027T010000
END:STANDARD
BEGIN:DAYLIGHT
TZOFFSETFROM:+0200
TZOFFSETTO:+0300
TZNAME:EEST
DTSTART:20250330T010000
END:DAYLIGHT
BEGIN:STANDARD
TZOFFSETFROM:+0300
TZOFFSETTO:+0200
TZNAME:EET
DTSTART:20251026T010000
END:STANDARD
BEGIN:DAYLIGHT
TZOFFSETFROM:+0200
TZOFFSETTO:+0300
TZNAME:EEST
DTSTART:20260329T010000
END:DAYLIGHT
BEGIN:STANDARD
TZOFFSETFROM:+0300
TZOFFSETTO:+0200
TZNAME:EET
DTSTART:20261025T010000
END:STANDARD
END:VTIMEZONE
BEGIN:VEVENT
DTSTART;VALUE=DATE:20250125
DTEND;VALUE=DATE:20250127
DTSTAMP:20260422T150420
CREATED:20241203T052008Z
LAST-MODIFIED:20250106T153705Z
UID:4604-1737763200-1737935999@csocso.hu
SUMMARY:I. Balatonfűzfő Open
DESCRIPTION:I.-Balatonfuzfo-Open\n\nVersenykiírás letöltése\n  https://www.facebook.com/events/539746502249217\n Előregiszráció\nElső alkalommal rendezzük meg Balatonfűzfőn csocsóversenyünket\, melyre szeretettel várunk mindenkit!\nA verseny 12 db Leonhart asztalon zajlik majd több kategóriában két versenynapon keresztül.\nKategóriák:\nJanuár 25. Szombat– Nyílt páros– Újonc páros– Semi-pro páros– 2Ball\nJanuár 26. Vasárnap– Nyílt egyéni– Vegyes páros
URL:https://csocso.hu/versenynaptar/i-balatonfuzfo-open/
LOCATION:Fűzfürdői Közösségi Ház\, József Attila utca 12\, Balatonfűzfő\, Veszprém\, 8175\, Hungary
CATEGORIES:Balatonfűzfő
ATTACH;FMTTYPE=image/jpeg:https://csocso.hu/wp-content/uploads/2024/12/466099608_122102212166610889_8682811028211131258_n-e1736238808483.jpg
ORGANIZER;CN="Balatonf%C5%B1zf%C5%91 Csocs%C3%B3":MAILTO:balatonfuzfocsocso@gmail.com
END:VEVENT
END:VCALENDAR