BEGIN:VCALENDAR
VERSION:2.0
PRODID:-//CSOCSO.HU - ECPv6.15.20//NONSGML v1.0//EN
CALSCALE:GREGORIAN
METHOD:PUBLISH
X-WR-CALNAME:CSOCSO.HU
X-ORIGINAL-URL:https://csocso.hu
X-WR-CALDESC:Események CSOCSO.HU
REFRESH-INTERVAL;VALUE=DURATION:PT1H
X-Robots-Tag:noindex
X-PUBLISHED-TTL:PT1H
BEGIN:VTIMEZONE
TZID:Europe/Helsinki
BEGIN:DAYLIGHT
TZOFFSETFROM:+0200
TZOFFSETTO:+0300
TZNAME:EEST
DTSTART:20240331T010000
END:DAYLIGHT
BEGIN:STANDARD
TZOFFSETFROM:+0300
TZOFFSETTO:+0200
TZNAME:EET
DTSTART:20241027T010000
END:STANDARD
BEGIN:DAYLIGHT
TZOFFSETFROM:+0200
TZOFFSETTO:+0300
TZNAME:EEST
DTSTART:20250330T010000
END:DAYLIGHT
BEGIN:STANDARD
TZOFFSETFROM:+0300
TZOFFSETTO:+0200
TZNAME:EET
DTSTART:20251026T010000
END:STANDARD
BEGIN:DAYLIGHT
TZOFFSETFROM:+0200
TZOFFSETTO:+0300
TZNAME:EEST
DTSTART:20260329T010000
END:DAYLIGHT
BEGIN:STANDARD
TZOFFSETFROM:+0300
TZOFFSETTO:+0200
TZNAME:EET
DTSTART:20261025T010000
END:STANDARD
END:VTIMEZONE
BEGIN:VEVENT
DTSTART;VALUE=DATE:20250808
DTEND;VALUE=DATE:20250811
DTSTAMP:20260422T033025
CREATED:20250716T045700Z
LAST-MODIFIED:20250716T050017Z
UID:4777-1754611200-1754870399@csocso.hu
SUMMARY:Szeged Beach 2025
DESCRIPTION:Szeged Beach 2025\nhttps://www.facebook.com/events/1613537845939474 \nVersenykiírás letöltése \n Előregiszráció hamarosan…
URL:https://csocso.hu/versenynaptar/szeged-beach-2025/
LOCATION:Szeged Sziksósfürdő\, Széksósi út\, Szeged-Kiskundorozsma\, Csongrád-Csanád\, 6791\, Magyarország
CATEGORIES:Szeged Beach
ATTACH;FMTTYPE=image/jpeg:https://csocso.hu/wp-content/uploads/2025/07/SZB-2025-fb-cover.jpg
END:VEVENT
END:VCALENDAR