BEGIN:VCALENDAR
VERSION:2.0
PRODID:-//CSOCSO.HU - ECPv6.15.20//NONSGML v1.0//EN
CALSCALE:GREGORIAN
METHOD:PUBLISH
X-WR-CALNAME:CSOCSO.HU
X-ORIGINAL-URL:https://csocso.hu
X-WR-CALDESC:Események CSOCSO.HU
REFRESH-INTERVAL;VALUE=DURATION:PT1H
X-Robots-Tag:noindex
X-PUBLISHED-TTL:PT1H
BEGIN:VTIMEZONE
TZID:Europe/Helsinki
BEGIN:DAYLIGHT
TZOFFSETFROM:+0200
TZOFFSETTO:+0300
TZNAME:EEST
DTSTART:20240331T010000
END:DAYLIGHT
BEGIN:STANDARD
TZOFFSETFROM:+0300
TZOFFSETTO:+0200
TZNAME:EET
DTSTART:20241027T010000
END:STANDARD
BEGIN:DAYLIGHT
TZOFFSETFROM:+0200
TZOFFSETTO:+0300
TZNAME:EEST
DTSTART:20250330T010000
END:DAYLIGHT
BEGIN:STANDARD
TZOFFSETFROM:+0300
TZOFFSETTO:+0200
TZNAME:EET
DTSTART:20251026T010000
END:STANDARD
BEGIN:DAYLIGHT
TZOFFSETFROM:+0200
TZOFFSETTO:+0300
TZNAME:EEST
DTSTART:20260329T010000
END:DAYLIGHT
BEGIN:STANDARD
TZOFFSETFROM:+0300
TZOFFSETTO:+0200
TZNAME:EET
DTSTART:20261025T010000
END:STANDARD
END:VTIMEZONE
BEGIN:VEVENT
DTSTART;TZID=Europe/Helsinki:20251005T140000
DTEND;TZID=Europe/Helsinki:20251005T230000
DTSTAMP:20260422T012611
CREATED:20250925T044933Z
LAST-MODIFIED:20250925T044933Z
UID:4844-1759672800-1759705200@csocso.hu
SUMMARY:Fejér megyei csocsóbajnokság 2025 - 1. forduló
DESCRIPTION:VERSENYKIÍRÁS\nVerseny típus:– 3 fordulós csocsóbajnokság\nKategóriák:– nyílt (bárki nevezhet)– kezdő (a ranglistán a max besorolás (D oszlop): „rookie”)\nLebonyolítási rendszer:– DKO (főág-vígaszág) BO3 (2 nyert szett\, döntő szettben 2 góllal\, max 8-ig)\nAsztal:– (max) 5 db Leonhart Tournament\nSzabályok:– Az ITSF jelenleg érvényes szabályzata.\nNevezési díj:– Nyílt kategória: 2000 Ft\, (rookie); 2500 Ft (Semi-pro);3000 Ft (pro+)Aminek: 70%-a a nyereményalapba kerül\nKezdő kategória : 2000 FtAminek: 70%-a a nyereményalapba kerül\nA nyílt összetett eredmény 4. kategóriás versenyként beszámításra kerül az országos ranglistába\, amennyiben 15 csapatnál többen leszünk a nyílt kategóriában.\n1. forduló időpontja: 2025.10.05. (Vasárnap)2. forduló várható időpontja: hamarosan (Vasárnap)3. forduló várható időpontja: hamarosan (Vasárnap)\nProgram:\n14:00 kapunyitás15:00 nyílt páros18:00 kezdő páros\nA meccs bemondása után 4 perc áll rendelkezésetekre elkezdeni a meccset\, utána 1. felszólítás\, 4 perc múlva 2. felszólítás\, ami 1 szett veszteséget jelent\, 4 perc után pedig leléptetés.\nA kezdési időpontok és a meccsbemondások szigorúan be lesznek tartva!\nBíró – nem ITSF által regisztrált hivatalos – a rendezői pultnál kérhető.\nÖsszetett:A 3 fordulóból a legjobb 2 összesített eredménye az alábbi pontozás alapján. Csak azonos párral elért eredmény számít.\nPontozás:1. 25 pont2. 203. 184. 155. 137. 109. 813. 517. 325. 233+. 1\nPontegyenlőség esetén a zárófordulón(!) az egyenlő ponttal rendelkező csapatok egymás ellen játszanak a jobb helyért. Hármas vagy több pontegyenlőség esetén ez SKO rendszerben történik\, sorsolva az esetleges kiemelést és párosítást.\n\nÖsszetett nyeremény:Nyílt: 1.-3.:KupákKezdő: 1. kupák\, 2-3. érmek (sok nevező esetén kupák)\nSzélsőséges nevezőszám esetén a lebonyolítás módja változhat!\nMinden okozott kárt köteles a károkozó megtéríteni!
URL:https://csocso.hu/versenynaptar/fejer-megyei-csocsobajnoksag-2025-1-fordulo/
LOCATION:Varkocs Old Pub\, Várkapu utca 1.\, Székesfehérvár\, 8000\, Hungary
CATEGORIES:Fejér megyei
ATTACH;FMTTYPE=image/jpeg:https://csocso.hu/wp-content/uploads/2025/09/Fejer-megyei.jpg
END:VEVENT
END:VCALENDAR