BEGIN:VCALENDAR
VERSION:2.0
PRODID:-//CSOCSO.HU - ECPv6.15.20//NONSGML v1.0//EN
CALSCALE:GREGORIAN
METHOD:PUBLISH
X-ORIGINAL-URL:https://csocso.hu
X-WR-CALDESC:Események CSOCSO.HU
REFRESH-INTERVAL;VALUE=DURATION:PT1H
X-Robots-Tag:noindex
X-PUBLISHED-TTL:PT1H
BEGIN:VTIMEZONE
TZID:Europe/Helsinki
BEGIN:DAYLIGHT
TZOFFSETFROM:+0200
TZOFFSETTO:+0300
TZNAME:EEST
DTSTART:20240331T010000
END:DAYLIGHT
BEGIN:STANDARD
TZOFFSETFROM:+0300
TZOFFSETTO:+0200
TZNAME:EET
DTSTART:20241027T010000
END:STANDARD
BEGIN:DAYLIGHT
TZOFFSETFROM:+0200
TZOFFSETTO:+0300
TZNAME:EEST
DTSTART:20250330T010000
END:DAYLIGHT
BEGIN:STANDARD
TZOFFSETFROM:+0300
TZOFFSETTO:+0200
TZNAME:EET
DTSTART:20251026T010000
END:STANDARD
BEGIN:DAYLIGHT
TZOFFSETFROM:+0200
TZOFFSETTO:+0300
TZNAME:EEST
DTSTART:20260329T010000
END:DAYLIGHT
BEGIN:STANDARD
TZOFFSETFROM:+0300
TZOFFSETTO:+0200
TZNAME:EET
DTSTART:20261025T010000
END:STANDARD
END:VTIMEZONE
BEGIN:VEVENT
DTSTART;TZID=Europe/Helsinki:20251010T100000
DTEND;TZID=Europe/Helsinki:20251012T220000
DTSTAMP:20260422T052023
CREATED:20250913T045540Z
LAST-MODIFIED:20250913T045835Z
UID:4825-1760090400-1760306400@csocso.hu
SUMMARY:II. Szeged Open
DESCRIPTION:II.Szeged_Open_info_pack_hun\nhttps://www.facebook.com/events/776192114808253 \nVersenykiírás letöltése
URL:https://csocso.hu/versenynaptar/ii-szeged-open/
LOCATION:Károlyi Mihály Kollégium\, Kossuth Lajos sgrt. 74.\, Szeged\, 6724\, Hungary
CATEGORIES:Szegedi Csocsó Egyesület
ATTACH;FMTTYPE=image/jpeg:https://csocso.hu/wp-content/uploads/2024/02/Szegedi-Csocso-Klub-logo.jpg
ORGANIZER;CN="Szegedi Csocs%C3%B3 Egyes%C3%BClet":MAILTO:szegedicsocsoklub@gmail.com
END:VEVENT
END:VCALENDAR